Workbook

Sheet X-Master
A1: ='X-GenIn'!A1 -> Xcel | PSCo All-Source 2022 Ownership RFP | E1: Refs to Other Tabs
B2: All Bid Input Data
B6: RFP | C6: Gen Tech | D6: Metric | E6: Input
B7: All | C7: All | D7: RFP | E7: =+'X-GenIn'!C10 -> Ownership
B8: All | C8: All | D8: Bidder Company | E8: ='C1_CoverSheet'!C15 -> 0
B9: All | C9: All | D9: Project Name | E9: ='C1_CoverSheet'!C4 -> 0
B10: All | C10: All | D10: City | E10: ='C1_CoverSheet'!C7 -> 0
B11: All | C11: All | D11: County | E11: ='C1_CoverSheet'!C8 -> 0
B12: All | C12: All | D12: State | E12: ='C1_CoverSheet'!C9 -> 0
B13: All | C13: All | D13: Latitude | E13: ='C1_CoverSheet'!C10 -> 0
B14: All | C14: All | D14: Longitude | E14: ='C1_CoverSheet'!C11 -> 0
B15: All | C15: All | D15: Name | E15: ='C1_CoverSheet'!C14 -> 0
B16: All | C16: All | D16: Company | E16: ='C1_CoverSheet'!C15 -> 0
B17: All | C17: All | D17: Address | E17: ='C1_CoverSheet'!C16 -> 0
B18: All | C18: All | D18: Phone | E18: ='C1_CoverSheet'!C17 -> 0
B19: All | C19: All | D19: Email | E19: ='C1_CoverSheet'!C18 -> 0
B20: All | C20: All | D20: Name II | E20: ='C1_CoverSheet'!C21 -> 0
B21: All | C21: All | D21: Company II | E21: ='C1_CoverSheet'!C22 -> 0
B22: All | C22: All | D22: Address II | E22: ='C1_CoverSheet'!C23 -> 0
B23: All | C23: All | D23: Phone II | E23: ='C1_CoverSheet'!C24 -> 0
B24: All | C24: All | D24: Email II | E24: ='C1_CoverSheet'!C25 -> 0
B25: All | C25: All | D25: Generation Technology Type | E25: ='C1_CoverSheet'!C27 -> 0
B26: All | C26: All | D26: Gen Tech Description if Gas or Other | E26: ='C1_CoverSheet'!C28 -> 0
B27: All | C27: All | D27: Net Capability / Nameplate Capacity (kW) | E27: ='C1_CoverSheet'!C29 -> 0
B28: All | C28: All | D28: Capacity Factor (%) | E28: ='C1_CoverSheet'!C30 -> 0
B29: Ownership, Renewable | C29: Solar | D29: Solar PV Nameplate Capacity (kW-DC) | E29: ='C1_CoverSheet'!C31 -> 0
B30: All | C30: Storage | D30: Storage Duration of Nameplate Capacity (hours) | E30: ='C1_CoverSheet'!C32 -> 0
B31: All | C31: All | D31: Hybrid Project | E31: ='C1_CoverSheet'!C33 -> 0
B32: All | C32: All | D32: Primary Fuel Type | E32: ='C1_CoverSheet'!C36 -> 0
B33: All | C33: All | D33: Secondary Fuel Type | E33: ='C1_CoverSheet'!C37 -> 0
B34: All | C34: All | D34: Firm Fuel | E34: ='C1_CoverSheet'!C38 -> 0
B35: All | C35: All | D35: Commercial Operation Date (COD) | E35: ='C1_CoverSheet'!C40 -> 0
B36: Dispatchable, Renewable | C36: All | D36: PPA Term (years) | E36: ='C1_CoverSheet'!C42 -> 0
B37: All | C37: All | D37: Point of Delivery At | E37: ='C1_CoverSheet'!C44 -> 0
B38: All | C38: All | D38: Point of Delivery Is On The | E38: ='C1_CoverSheet'!C46 -> 0
B39: All | C39: All | D39: Sale Type | E39: ='C1_CoverSheet'!C48 -> 0
B40: All | C40: All | D40: Sale Description if Other or Multiple | E40: ='C1_CoverSheet'!C49 -> 0
B41: All | C41: All | D41: Estimated Useful Life of Facility at COD (years) | E41: ='C1_CoverSheet'!C51 -> 0
B42: All | C42: All | D42: Utility Providing Retail Service at Project Location | E42: ='C1_CoverSheet'!C53 -> 0
B43: All | C43: All | D43: Generation Technology Type II | E43: ='C2_CoverSheetII'!C6 -> 0
...

Sheet X-GenIn
A1: ="Xcel | "&C7 -> Xcel | PSCo All-Source 2022 Ownership RFP | I1: BEFORE DISTRIBUTION…
B2: General Inputs | I2: - Password lock all sheets.
I3: - Hide this sheet and X-Master.
B5: Field | C5: Input
B6: Xcel OpCo | C6: PSCo | D6: x - not used
B7: RFP Name | C7: PSCo All-Source 2022 Ownership RFP
B8: Yr of Issuance | C8: 2022 | D8: x - not used
B9: Date of Issuance | C9: 44651 | D9: x - not used
B10: RFP Type | C10: Ownership
B12: Bid Forms Style Guide
B13: - Keep (try) all inputs to column C.
B14: - Each form have a column size of 3 on either side and then in between column widths should add up to 130.
B15: - Input row height at 20 or 33 (for double lines).
B16: - Top header row height at 23.
B17: - Non-input row height at 12.75.
B18: - Non-input column width at 8.43.
B19: - Zoom scale to 85%.
B20: - Margin size at Normal.
B21: - Font color black or automatic.
B22: - Header background and text color.
B23: - Input background color.
B24: - Scale to fit one page at 65%.
B27: VERSION | C27: 2/9/2023 >> 2/15/2023

Sheet A_NOIR
B1: Form A - Notice of Intent to Respond (NOIR)
B2: ='X-GenIn'!C7 -> PSCo All-Source 2022 Ownership RFP
B4: Respondents who intend to submit a proposal(s) into the 2022 All-Source solicitation must submit this form by the stated deadline in Excel format. The NOIR will serve as registration for the All-Source Solicitation and should be submitted via email to the RFP Project Manager at the earliest date possible but no later than 4:00 P.M. Mountain Time on 2/15/2023. Respondents who fail to submit a NOIR will not be able to submit bids. There is no fee required to submit a NOIR. Upon receipt of this form, the Company will respond to the bidder with a link that will enable them to submit their bids electronically to a secure file sharing site and wiring instructions for submittal of bid fees. Please include the email for each bidder representative who should be copied on the emailed instructions from the Company.
B5: BIDDING COMPANY INFORMATION
A6: 1 | B6: Company Name
A9: =+A6+1 -> 2 | B9: Company Location
B10: Street Address, City, State, Zip
A12: =A9+1 -> 3 | B12: Company Representative
B13: Name & Title
A15: =+A12 -> 3 | B15: Email of Representative
A18: =+A15+1 -> 4 | B18: Phone # of Representative
A21: =+A18+1 -> 5 | B21: Emails of Other Company Representatives
B22: Separate emails by semicolon.
A24: =+A21+1 -> 6 | B24: Estimated # of Bids
A27: =+A24+1 -> 7 | B27: Notes to NOIR
B31: Submit the NOIR by email to the RFP Project Manager at PSCo2022AllSource@XcelEnergy.com
B32: by no later than 4:00 P.M. Mountain Time on 2/15/2023.

Sheet B_BidCert
B1: Form B - Bid Certification
B2: ='X-GenIn'!C7 -> PSCo All-Source 2022 Ownership RFP
B4: The bidder hereby certifies that all of the statements and representations made in this proposal are true to the best of the bidder's knowledge and belief, and agrees to be bound by the representations, terms, and conditions contained in the RFP including restrictions on the bidder's claim of confidentiality. The bidder accepts the term sheets and technical specifications included in the RFP, except as specifically noted in writing. The bidder certifies that (i) the bidder has considered applicable accounting standards regarding capital lease and variable interest entities, (ii) to the bidder's knowledge and belief, the bidder's proposal should not result in capital lease or VIE treatment to Public Service, and (iii) the bidder agrees to work with PSCo on Transmission Corridor Preservation as detailed in section 3.3 of the RFP document. The bidder acknowledges that the officer whose signature appears below is able to contractually commit the bidder for its proposal.
A5: 1 | B5: Submitted By
B6: Exact Legal Name of Firm
A8: =+A5+1 -> 2 | B8: Bidder
B9: If Different Than Above
A11: =+A8+1 -> 3 | B11: Signature of an Officer
A14: =+A11+1 -> 4 | B14: Name of Officer
A17: =+A14+1 -> 5 | B17: Title
A20: =+A17+1 -> 6 | B20: Date Signed
A23: =+A20+1 -> 7 | B23: Addenda

Sheet C1_CoverSheet
B1: Form C1 - Bid Cover Sheet
B2: ='X-GenIn'!C7 -> PSCo All-Source 2022 Ownership RFP
A4: 1 | B4: Project Name
A6: =+A4+1 -> 2 | B6: Project Location
B7: City
B8: County
B9: State | G9: Lat+Long Limits
B10: Latitude | D10: (decimal degrees) | F10: Lat | G10: 25 | H10: 50
B11: Longitude | D11: (decimal degrees) | F11: Long | G11: -125 | H11: -65
A13: =+A6+1 -> 3 | B13: Bidder Contact
B14: Name
B15: Company
B16: Address
B17: Phone
B18: Email
A20: =+A13+1 -> 4 | B20: Alternate Bidder Contact
B21: Name II
B22: Company II
B23: Address II
B24: Phone II
B25: Email II
G26: Gen Types
A27: =+A20+1 -> 5 | B27: Generation Technology Type | D27: (select from drop-down) | G27: Biomass | H27: Gas Thermal | I27: Geothermal | J27: Hydro | K27: Other | L27: Recycled Energy | M27: Solar PV | N27: Solar Thermal | O27: Storage | P27: Wind
B28: Gen Tech Description if Gas Thermal or Other
B29: Net Capability / Nameplate Capacity (kW) | D29: *
B30: Capacity Factor (%)
B31: Solar PV Nameplate Capacity (kW-DC) | D31: **
B32: Storage Duration of Nameplate Capacity (hours) | G32: Hybrid
B33: Hybrid Project | D33: (select from drop-down) | G33: No | H33: Yes
B34: If hybrid, fill out other generation technologies on C2_CoverSheet.
A35: =A27+1 -> 6 | B35: Fuel Type
B36: Primary Fuel Type
B37: Secondary Fuel Type | G37: Firm Fuel
B38: Firm Fuel | D38: (select from drop-down) | G38: No | H38: Yes
G39: COD Limits
A40: =+A35+1 -> 7 | B40: Commercial Operation Date (COD) | G40: 44805 | H40: 47118
A42: =A40+1 -> 8 | B42: PPA Term (years)
B43: Power Purchase Agreements only, Ownership RFP not applicable.
A44: =A42+1 -> 9 | B44: Point of Delivery At
G45: PODs
...

Sheet C2_CoverSheetII
B1: Form C2 - Bid Cover Sheet II for Hybrids
B2: ='X-GenIn'!C7 -> PSCo All-Source 2022 Ownership RFP
A4: 1 | B4: Project Name | C4: ='C1_CoverSheet'!C4 -> 0
G5: Gen Types
A6: =+A4+1 -> 2 | B6: Generation Technology Type II | D6: (select from drop-down) | G6: Biomass | H6: Gas Thermal | I6: Geothermal | J6: Hydro | K6: Other | L6: Recycled Energy | M6: Solar PV | N6: Solar Thermal | O6: Storage | P6: Wind
B7: Gen Tech Description if Gas Thermal or Other II
B8: Net Capability / Nameplate Capacity (kW) II | D8: *
B9: Capacity Factor (%) II
B10: Solar PV Nameplate Capacity (kW-DC) II | D10: **
B11: Storage Duration of Nameplate Capacity (hours) II
A13: =A6+1 -> 3 | B13: Fuel Type II
B14: Primary Fuel Type II
B15: Secondary Fuel Type II | G15: Firm Fuel
B16: Firm Fuel II | D16: (select from drop-down) | G16: No | H16: Yes
A18: =+A13+1 -> 4 | B18: PPA Term (years) II
B19: Power Purchase Agreements only, Ownership RFP not applicable.
A20: =+A18+1 -> 5 | B20: Point of Delivery At II
G21: PODs
A22: =+A20+1 -> 6 | B22: Point of Delivery Is On The II | D22: (select from drop-down) | G22: Transmission System | H22: Distribution System
A24: =+A22+1 -> 7 | B24: Estimated Useful Life of Facility at COD (years) II
A26: =+A24+1 -> 8 | B26: Utility Providing Retail Service at Location II
A28: =+A26+1 -> 9 | B28: Project Location II
B29: City II
B30: County II
B31: State II | G31: Lat+Long Limits
B32: Latitude II | D32: (decimal degrees) | F32: Lat | G32: 25 | H32: 50
B33: Longitude II | D33: (decimal degrees) | F33: Long | G33: -125 | H33: -65
G34: Gen Types
A35: =+A28+1 -> 10 | B35: Generation Technology Type III | D35: (select from drop-down) | G35: Biomass | H35: Gas Thermal | I35: Geothermal | J35: Hydro | K35: Other | L35: Recycled Energy | M35: Solar PV | N35: Solar Thermal | O35: Storage | P35: Wind
B36: Gen Tech Description if Gas Thermal or Other III
B37: Net Capability / Nameplate Capacity (kW) III | D37: *
B38: Capacity Factor (%) III
B39: Solar PV Nameplate Capacity (kW-DC) III | D39: **
B40: Storage Duration of Nameplate Capacity (hours) III
A42: =A35+1 -> 11 | B42: Fuel Type III
B43: Primary Fuel Type III
B44: Secondary Fuel Type III | G44: Firm Fuel
B45: Firm Fuel III | D45: (select from drop-down) | G45: No | H45: Yes
A47: =+A42+1 -> 12 | B47: PPA Term (years) III
B48: Power Purchase Agreements only, Ownership RFP not applicable.
...

Sheet C3_CoverSheetIII
B1: Form C3 - Bid Cover Sheet III
B2: ='X-GenIn'!C7 -> PSCo All-Source 2022 Ownership RFP
A4: 1 | B4: Project Name | C4: ='C1_CoverSheet'!C4 -> 0
G5: PCDA
A6: =+A4+1 -> 2 | B6: Pre-Construction Development Asset (PCDA) | D6: (select from drop-down) | G6: No | H6: Yes
G7: PLA
A8: =+A6+1 -> 3 | B8: Project Has a Project Labor Agreement (PLA) | D8: (select from drop-down) | G8: No | H8: Yes
G9: Section 123;
A10: =+A8+1 -> 4 | B10: Project Claims Section 123 Status | D10: (select from drop-down) | G10: No | H10: Yes
G11: Community Project
A12: =+A10+1 -> 5 | B12: Community Based Project | D12: (select from drop-down) | G12: No | H12: Yes

Sheet D1A_Pricing
B1: Form D1A - Pricing and Quantity for BOTs or Sale of Existing Asset
B2: ='X-GenIn'!C7 -> PSCo All-Source 2022 Ownership RFP
B4: All pricing is expected to be fully compliant with applicable Technical Requirements and Model Term Sheet for the Purchase and Sale of an operational Gas, Solar, Solar with Storage, Stand-Alone Storage, or Wind Project. 1) Expected Generation (Renewables Only) - Provide expected generation levels for each year of the project's expected life, net of expected degradation impacts, if any. Expected generation should be estimated at the Point of Interconnection. 2) Schedule of Payments - Provide a schedule and amount of payments from PSCo to the bidder that separately identifies payments for a) engineering, procurement & construction, b) land & easement costs, and c) all other project-related payments to be made by PSCo. Payments can be made in a periodic or a single lump-sum manner. All dollar amounts should be entered in nominal dollars. 3) Notes - Include pricing assumptions related to this bid. This should include assumptions regarding federal tax incentives applicable to the proposed project on the proposed in-service date. Also, identify if these incentives are due to expire or decline during the term of the proposed agreement. Additionally, identify if the bid includes a service management agreement or SMA. Subjects covered should also be included in the bid narrative.
A5: 1 | B5: Expected Generation | D5: =+A5+1 -> 2 | E5: Schedule of Payments
B6: Commercial Operation Year | C6: Expected Generation (MWh) | E6: Payment Date (mm/dd/yyyy) | F6: Engineering, Procurement & Construction Payments ($) | G6: Land & Easement Payments ($) | H6: All Other Project-Related Payments ($) | I6: Total Payments ($)
B7: 1 | I7: =SUM(F7:H7) -> 0
B8: =B7+1 -> 2 | I8: =SUM(F8:H8) -> 0
B9: =B8+1 -> 3 | I9: =SUM(F9:H9) -> 0
B10: =B9+1 -> 4 | I10: =SUM(F10:H10) -> 0
B11: =B10+1 -> 5 | I11: =SUM(F11:H11) -> 0
B12: =B11+1 -> 6 | I12: =SUM(F12:H12) -> 0
B13: =B12+1 -> 7 | I13: =SUM(F13:H13) -> 0
B14: =B13+1 -> 8 | I14: =SUM(F14:H14) -> 0
B15: =B14+1 -> 9 | I15: =SUM(F15:H15) -> 0
B16: =B15+1 -> 10 | I16: =SUM(F16:H16) -> 0
B17: =B16+1 -> 11 | I17: =SUM(F17:H17) -> 0
B18: =B17+1 -> 12 | I18: =SUM(F18:H18) -> 0
B19: =B18+1 -> 13 | I19: =SUM(F19:H19) -> 0
... B46: =B45+1 -> 40 | I46: =SUM(F46:H46) -> 0
A48: =+D5+1 -> 3 | B48: Notes to Pricing

Sheet D1B_Expenses
B1: Form D1B - FOM, VOM, Maintenance, Ongoing Capital Expenses
B2: ='X-GenIn'!C7 -> PSCo All-Source 2022 Ownership RFP
B3: 30.43 | C3: 16.57 | D3: 16.57 | E3: 16.57 | F3: 16.57 | G3: 16.57 | H3: 16.57
B4: This form is not required for bids proposing Build-Own-Transfer proposals, as it will be completed by the Company. For bids proposing the sale of an existing asset, bidders may use this form to fill in their estimates for ongoing expenses; but should note that those estimates may be amended based on the Company's projections. Enter for each operating year the Fixed Operation & Maintenance (FOM), Variable Operation & Maintenance (VOM), Non-Capital Maintenance Expenses, and Ongoing Capital (CapX) costs, if any, estimated to be expended. Provide the assumptions for annual generation and the number of annual turbine starts used to generate the annual cost estimates. Costs should reflect expenditures necessary to reach, but not exceed, the useful life specified in Form D1A. Provide cost estimates in nominal dollar terms. Notes on Cost Allocations - FOM: Costs associated with operating the plant which are independent of operational hours. - VOM: Costs should be limited to those which are directly tied to the operation of the plant. Examples include water, chemicals, or other consumables. - Non-Capital Maintenance Expenses: Costs that are operationally dependent but do not increase in direct proportion to generation. For example, maintenance or overhaul costs tied to operational hours or the number of starts. - Ongoing CapX: Capitalized expenses associated with plant maintenance or overhauls. Each column should contain non-duplicate costs such that a sum across all four columns would yield the total expected costs for that year.
A5: 1 | B5: Annual Generation (MWh) | C5: =D1A_Pricing!C7 -> 0 | D5: (from Form D1A)
A6: =+A5+1 -> 2 | B6: Unit Starts per Year (#)
A8: =+A6+1 -> 3 | B8: Commercial Operation Year | C8: FOM ($/yr) | D8: VOM ($/yr) | E8: Non-Capital Maintenance Expenses ($/yr) | F8: Ongoing CapX ($/yr) | G8: VOM ($/MWh) | H8: Start Cost ($/start)
B9: 1
B10: =B9+1 -> 2
B11: =B10+1 -> 3
B12: =B11+1 -> 4
B13: =B12+1 -> 5
B14: =B13+1 -> 6
B15: =B14+1 -> 7
B16: =B15+1 -> 8
B17: =B16+1 -> 9
B18: =B17+1 -> 10
B19: =B18+1 -> 11
B20: =B19+1 -> 12
B21: =B20+1 -> 13
... B48: =B47+1 -> 40
A50: =+A8+1 -> 4 | B50: Notes to Expenses

Sheet D1C_Taxes
B1: Form D1C - Property Taxes
B2: ='X-GenIn'!C7 -> PSCo All-Source 2022 Ownership RFP
B4: Any proposal that would result in new generation, storage, interconnection, and/or transmission infrastructure in Morgan, Routt, or Pueblo Counties must provide the estimated property tax that would be imposed on the property located in those counties along with a workpaper showing how those estimated property tax values were calculated. Please provide the estimated annual property taxes in nominal U.S. dollars.
A5: 1 | B5: Commercial Operation Year | C5: Property Taxes ($)
B6: 1
B7: 2
B8: 3
B9: 4
B10: 5
B11: 6
B12: 7
B13: 8
B14: 9
B15: 10
B16: 11
B17: 12
... B45: 40
A47: =+A5+1 -> 2 | B47: Notes to Taxes

Sheet D2_InterconnectCost
B1: Form D2 - Electrical Interconnection Cost Estimates
B2: ='X-GenIn'!C7 -> PSCo All-Source 2022 Ownership RFP
A4: 1 | B4: Electric Interconnection Costs Included in Form D1 Pricing
B5: LGIP Identifier
B6: Or source of estimate if no LGIP.
B7: Generator Interconnection Facilities (including Radial Lines) ($)
B8: Length of Gen Tie to Point of Interconnection (miles)
B9: PSCo-Owned, Generator-Funded Interconnection Facilities ($)
B10: Interconnection Cost Price Adjustment ($/kW-mo) | D10: *
B11: *For PPAs only - Change in levelized Capacity Payment Rate ($/kW-mo) per $100,000 change in estimated cost assumption.
A13: =+A4+1 -> 2 | B13: 3rd-Party Transmission Costs Included in Form C1 Pricing
B14: 3rd-Party Transmission Provider
B15: Wheeling and Ancillary Charges
B16: OATT Schedule 1 ($/kW-mo)
B17: OATT Schedule 2 ($/kW-mo)
B18: OATT Schedule 7 ($/kW-mo)
A20: =+A13+1 -> 3 | B20: Electric Interconnection Costs Not Included in Form C1 Pricing
B21: LGIP Identifier II
B22: Or source of estimate if no LGIP.
B23: PSCo-Owned, PSCo-Funded Interconnection Facilities ($)
B24: Network Upgrades for Delivery ($)
B25: List, if known; else, Public Service will estimate and complete.
A27: =+A20+1 -> 4 | B27: Wheeling Losses (%)
B28: If the facility is not located at the Point of Delivery (POD), provide an estimate of the wheeling losses between the facility and the POD.

Sheet E1_ConstructMS
B1: Form E - Construction Milestones
B2: ='X-GenIn'!C7 -> PSCo All-Source 2022 Ownership RFP
B4: Insert the proposed date for each milestone shown here as would be found on the detailed Development Schedule provided with the proposal. Milestones should be based on the requirements to achieve the proposed commercial operation date.
C5: Construction Milestones Date | D5: Outcome
D6: Seller and all required counterparties shall have executed such Construction Contracts as are needed to construct the Facility.
D7: Seller and the Transmission Authority shall have executed the Interconnection Agreement.
D8: Seller shall have achieved closing on financing for the Facility or provided Company with proof of financial capability to construct the Facility.
D9: Seller shall have laid the foundation for all Facility buildings, generating facilities and step-up transformation facilities.
D10: Commencement of construction of the Facility.
D11: Procurement of Battery Units.
D12: The turbine(s)/generator(s)/step-up transformer shall have been delivered to, and installed at, the Site.
D13: Seller has submitted to Company and obtained Company approval of serialized information for all Electric Metering Devices and Back-Up Metering.
D14: All fuel supply and transportation arrangements have been put in place, the fuel interconnection facilities have been constructed & are operational, & a copy of the executed natural gas interconnection facilities agreement has been provided to Company.
D15: Seller shall have constructed Seller’s Interconnection Facilities and such facilities are capable of being energized.
D16: Seller has demonstrated to Company’s reasonable satisfaction that all Electric Metering Devices and Back-Up Metering and communications equipment are functional and provide data integrity.
D17: Start-up testing of the Facility commences. | F17: COD Limits
D18: Commercial Operation Date. | F18: 44805 | G18: 47118
C20: If a milestone is not applicable (i.e. storage procurement of batteries), mark as "n/a".

Sheet E2_PCDA
B1: Form E2 - Pre-Construction Development Assets (PCDA) Milestones
B2: ='X-GenIn'!C7 -> PSCo All-Source 2022 Ownership RFP
B3: 3 | C3: 18.57 | D3: 18.57 | E3: =130-SUM(B3:D3) -> 89.86
B4: Bids not selected may also be considered for submittal to the CPUC as Pre-construction Development Asset (“PCDA”) if the bidder has indicated their interest in this option by selecting the check box in bid Form C3 and supplying the relevant information in the bid narrative (sec section 4.3 of the Dispatchable RFP).
C5: Date | D5: Payment ($) | E5: Milestone
B6: 1
B7: =+B6+1 -> 2
B8: =+B7+1 -> 3
B9: =+B8+1 -> 4
B10: =+B9+1 -> 5
B11: =+B10+1 -> 6
B12: =+B11+1 -> 7
B13: =+B12+1 -> 8
B14: =+B13+1 -> 9
B15: =+B14+1 -> 10
B16: =+B15+1 -> 11
B17: =+B16+1 -> 12
B18: =+B17+1 -> 13
... B23: =+B22+1 -> 18

Sheet F1_Capacity
B1: Form F1 - Capacity for Thermal Resources
B2: ='X-GenIn'!C7 -> PSCo All-Source 2022 Ownership RFP
B3: 17.14 | C3: 16.14 | D3: 16.14 | E3: 16.14 | F3: 16.14 | G3: 16.14 | H3: 16.14 | I3: 16.14
B4: All information on this tab should be given by unit for simple cycle turbines or by operating mode for combined cycle turbines. Enter the 1) Operating Mode of the turbines, either simple cycle or combined cycle, the operating mode 2) Configuration, and the 3) # of Units for homogenous simple cycle turbines (e.g. enter 2 for 2 homogenous simple cycle turbines). Enter the maximum capacity configuration first for combined cycle turbines and duplicate the tab for all other configurations or non-homogenous simple cycle turbines. Complete this tab, and for extra duplicates only, label as "F1_Capacity_A", "F1_Capacity_B", etc. for multiple non-homogenous simple cycle turbines and for each operating mode for combined cycle turbines (e.g. there should be at least "F1_Capacity" tab then a "F1_Capacity_A"). Email the RFP project manager with any questions or clarifications. Add 8) notes for additional details. Provide estimated 4) summer, 5) winter, and 6) shoulder capacities and net capability (in MW) by unit (for simple cycle) or operating mode (for combined cycle) that would be available to PSCo over the proposed contract term. The values should reflect the average summer and winter capacities during the commercial operating year at the point of delivery and must be net of all parasitic loads and house power requirements. Neither the summer, winter, nor shoulder capacity should exceed the 7) net capability. If the proposal includes any supplemental capacity (whether from duct-firing, steam injection, or any other type), indicate the amounts available under summer and winter conditions. Note any limitations including, but not limited to, emission permitting limitations on the availability of such supplemental capacity. The base and supplemental capacity values should match the values provided on Form F3 for 100% summer and winter unit loadings. Summer capacity should be based on an ambient temperature of 95 degrees Fahrenheit, 20% relative humidity (RH), and altitude adjusted. Winter capacity should be based on an ambient temperature of 30° F, 60% RH, and altitude adjusted. Shoulder season capacity should be based on an ambient temperature of 52° F, 55% RH, and altitude adjusted. | L4: Op Mode:
A5: 1 | B5: Operating Mode | D5: (select from drop-down) | L5: Simple Cycle | M5: Combined Cycle
L6: Config:
A7: =A5+1 -> 2 | B7: Configuration | D7: (for combined cycle turbines only & select from drop-down list) | L7: 3x1 | M7: 2x1 | N7: 1x1
A9: =A7+1 -> 3 | B9: # of Units | D9: (for homogenous simple cycle turbines)
I10: …by unit or CC operating mode.
C11: 4) SUMMER CAPACITY | E11: 5) WINTER CAPACITY | G11: 6) SHOULDER CAPACITY | I11: 7) NC
C12: Summer Base (MW) | D12: Summer Supplemental (MW) | E12: Winter Base (MW) | F12: Winter Supplemental (MW) | G12: Shoulder Base (MW) | H12: Shoulder Supplemental (MW) | I12: Net Capability (MW)
B13: At COD
A15: 8) | B15: Notes to Capacity

Sheet F2_Performance
B1: Form F2 - Facility Performance
B2: ='X-GenIn'!C7 -> PSCo All-Source 2022 Ownership RFP
B3: Operating Mode
B4: All information on this tab should be given by unit for simple cycle turbines or by operating mode for combined cycle turbines and correspond to a "F1_Capacity" tab. Complete this tab, and for extra duplicates only, label as "F2_Performance_A", "F2_Performance_B", etc. for multiple non-homogenous simple cycle turbines and for each operating mode for combined cycle turbines (e.g. there should be at least "F2_Performance" tab then a "F2_Performance_A"). Email the RFP project manager with any questions or clarifications. Add 8) notes for additional details.
B5: Operating Mode | C5: =+F1_Capacity!C5 -> 0 | D5: (CC or simple cycle)
B6: Configuration | C6: =+F1_Capacity!C7 -> 0 | D6: (combined cycle turbines only)
B7: # of Units | C7: =+F1_Capacity!C9 -> 0 | D7: (homogenous simple cycle only)
A9: 1 | B9: Outages
B10: Annual Expected Forced Outage Rate (%)
B11: Expected Average Annual Maintenance Requirements (days/year)
A13: =A9+1 -> 2 | B13: Manual Control
B14: Lowest Stable Operating Point on Manual Control (% of full load)
B15: Highest Stable Operating Point on Manual Control (% of full load)
B16: Normal Up Ramp Rate on Manual Control (MW/min)
B17: Normal Down Ramp Rate on Manual Control (MW/min)
B18: Emergency Up Ramp Rate on Manual Control (MW/min)
B19: Emergency Down Ramp Rate on Manual Control (MW/min)
B20: Manual control is not modeled, will only model AGC.
A21: =A13+1 -> 3 | B21: Automatic Generation Control (leave blank if no AGC capability)
B22: Lowest Stable Operating Point on AGC (% of full load)
B23: Highest Stable Operating Point on AGC (% of full load)
B24: Maximum Up Ramp Rate on AGC (MW/min)
B25: Maximum Down Ramp Rate on AGC (MW/min)
A27: =A21+1 -> 4 | B27: Start Times (time to start unit, sync to grid, and reach minimum load)
B28: Off-Line for 6 Hours (minutes)
B29: Off-Line for 8 Hours (minutes)
B30: Off-Line for 12 Hours (minutes)
B31: Off-Line for 3 days (minutes)
B32: Maximum Load Achievable in 10 Minutes (% of full load)
B33: Maximum Load Achievable in 15 Minutes (% of full load)
B34: Maximum Load Achievable in 30 Minutes (% of full load)
A36: =A27+1 -> 5 | B36: Minimum Up Time (minutes)
A37: =A36+1 -> 6 | B37: Minimum Down Time (minutes)
A38: =A37+1 -> 7 | B38: Consumptive Water Use at 100% Annual Avg Base Capacity (gallons/MWh)
A40: =A38+1 -> 8 | B40: Notes to Facility Performance

Sheet F3_HeatRates
B1: Form F3 - Heat Rates
B2: ='X-GenIn'!C7 -> PSCo All-Source 2022 Ownership RFP
B4: All information on this tab should be given by unit for simple cycle turbines or by operating mode for combined cycle turbines, and correspond to a "F1_Capacity" tab. Complete this tab, and for extra duplicates only, label as "F3_HeatRates_A", "F3_HeatRates_B", etc. for multiple non-homogenous simple cycle turbines and for each operating mode for combined cycle turbines (e.g. there should be at least "F3_HeatRates" tab then a "F3_HeatRates_A"). Email the RFP project manager with any questions or clarifications. Add 4) notes for additional details. For proposals involving tolling or other fuel-indexed arrangements, enter the average summer, winter and shoulder season heat rates at the unit loading levels indicated. Heat rates must be stated at the higher heating value (HHV), ambient (barometric) air pressure corrected to site elevation, and 95 degrees Fahrenheit, 20% relative humidity (RH) for summer conditions, 30° F, 60% RH for winter conditions, and 52° F, 55% RH for shoulder season conditions.
B5: Operating Mode | C5: =+F1_Capacity!C5 -> 0 | D5: (CC or simple cycle)
B6: Configuration | C6: =+F1_Capacity!C7 -> 0 | D6: (combined cycle turbines only)
B7: # of Units | C7: =+F1_Capacity!C9 -> 0 | D7: (homogenous simple cycle only)
C9: 1) SUMMER HR | E9: 2) WINTER HR | G9: 3) SHOULDER HR
B10: Unit Loading at... | C10: Summer Capacity (MW) | D10: Summer Heat Rate (Btu/kWh) | E10: Winter Capacity (MW) | F10: Winter Heat Rate (Btu/kWh) | G10: Shoulder Capacity (MW) | H10: Shoulder Heat Rate (Btu/kWh)
B11: Unit Loading at MIN
B12: ~25% of Operating Range
B13: ~50% of Operating Range
B14: ~75% of Operating Range
B15: Unit Loading At MAX
A17: 4 | B17: Notes to Heat Rates

Sheet F4_HRDegrade
B1: Form F4 - Heat Rate Degradation
B2: ='X-GenIn'!C7 -> PSCo All-Source 2022 Ownership RFP
B3: 999
B4: For proposals involving tolling or other fuel-indexed arrangements, enter the predicted percentage degradation in the facility’s higher heating value (HHV) heat rate at ambient summer conditions (ambient (barometric) air pressure corrected to site elevation, and 95° F, 20% relative humidity). Bidders should indicate if predicted heat rates are tied to unit maintenance, and if so, provide details. If Form F3 shows flat heat rates with no degradation, the proposal should indicate that bidder does not want the guaranteed heat rate to change over the life of the project.
B5: Operating Hour Range
A6: 1 | B6: Period Start (Hrs) | C6: Period End (Hrs) | D6: Percentage Degradation (%) | E6: Heat Rate (Btu/kWh)
B7: 0
B8: =IF(C8>0,C7,0) -> 0
B9: =IF(C9>0,C8,0) -> 0
B10: =IF(C10>0,C9,0) -> 0
B11: =IF(C11>0,C10,0) -> 0
B12: =IF(C12>0,C11,0) -> 0
B13: =IF(C13>0,C12,0) -> 0
B14: =IF(C14>0,C13,0) -> 0
B15: =IF(C15>0,C14,0) -> 0
B16: =IF(C16>0,C15,0) -> 0
B17: =IF(C17>0,C16,0) -> 0
A19: =A6+1 -> 2 | B19: Notes to HR Degradation

Sheet F5_TechDescSolarPV
B1: Form F5 - Technical Description | Solar Photovoltaic
B2: ='X-GenIn'!C7 -> PSCo All-Source 2022 Ownership RFP
A4: 1 | B4: Module Level Information
B5: Manufacturer of Module
B6: Model # of Module
B7: Cell Material
B8: Total # of Modules
A10: =+A4+1 -> 2 | B10: Array Level Information
B11: # Modules per String
B12: Strings in Parallel
B13: Total Active Surface Area (m2)
A15: =+A10+1 -> 3 | B15: Inverter Information
B16: Manufacturer of Inverter
B17: Model # of Inverter
B18: Total # Inverters
A20: =+A15+1 -> 4 | B20: Mounting/Orientation | G20: Mounting
B21: Fixed or Tracking | D21: (select from drop-down) | G21: Fixed | H21: 1-Axis Tracking | I21: 2-Axis Tracking
B22: Azimuth (degree)
B23: Elevation (degree)
B24: Azimuth & Elevation inputs apply to only Fixed or 1-Axis Tracking only.
I25: .
A26: =+A20+1 -> 5 | B26: Facility Level Information
B27: Annual Plant Availability (%) - Solar PV
B28: Ground Coverage Ratio (%)
B29: Estimated Land Area (acres) - Solar PV
B30: Consumptive Water Use (gallon/MWh) - Solar PV
A32: =+A26+1 -> 6 | B32: Notes to Technical Description | Solar PV

Sheet F6_TechDescStorageI
B1: Form F6 - Technical Description | Battery Energy Storage I
B2: ='X-GenIn'!C7 -> PSCo All-Source 2022 Ownership RFP | D2: =130-SUM(B2:C2) -> 130
B3: 60.67 | C3: 52.33 | D3: =130-SUM(B3:C3) -> 17
A4: 1 | B4: Battery Information
B5: Manufacturer of Battery
B6: Battery Storage Chemistry
A8: =A4+1 -> 2 | B8: Performance Metrics
B9: Storage Capacity (MWh)
B10: Self-Discharge Rate (MWh/month)
B11: Minimum Charging Time (minutes)
B12: Maximum Charging Rate (MW)
B13: Minimum Discharging Time (minutes)
B14: Maximum Discharging Rate (MW)
B15: Maximum Ramp Rate (MW/second)
B16: Response Time (seconds)
B17: Maximum Cycles per Day
B18: Estimated Life (cycles)
G19: AC/DC Coupling
A20: =+A8+1 -> 3 | B20: AC or DC Coupling | D20: (select from drop-down) | G20: AC | H20: DC
B21: For hybrid +storage projects.
G22: Y/N
A23: =+A20+1 -> 4 | B23: Storage Provides Regulation Services | D23: (select from drop-down) | G23: Yes | H23: No
A25: =+A23+1 -> 5 | B25: Notes to Technical Description | Battery Energy Storage
A38: ---------------------------------------------------------------------------------------------------------------------------------------------------------------------------------------------------

Sheet F7_TechDescStorageII
B1: Form F7 - Technical Description | Battery Energy Storage II
B2: ='X-GenIn'!C7 -> PSCo All-Source 2022 Ownership RFP
B3: 55 | C3: 51.43 | D3: =130-SUM(B3:C3) -> 23.57
A4: 1 | B4: Round Trip Efficiency % (RTE)
B5: Commercial Operation Year | C5: RTE (%)
B6: 1
B7: =B6+1 -> 2
B8: 3
B9: 4
B10: 5
B11: 6
B12: 7
B13: 8
B14: 9
B15: 10
B16: 11
B17: 12
B18: 13
B19: 14
... B45: 40
A47: =+A4+1 -> 2 | B47: Notes to Technical Description | Battery Energy Storage II

Sheet F8_TechDescWind
B1: Form F7 - Technical Description | Wind
B2: ='X-GenIn'!C7 -> PSCo All-Source 2022 Ownership RFP
B3: 60.71 | C3: 52.43 | D3: =130-SUM(B3:C3) -> 16.86
A4: 1 | B4: Turbine Level Information
B5: Manufacturer of Turbine
B6: Model # of Turbine
B7: Nameplate per Turbine (MW)
B8: Rotor Diameter (meters)
B9: Hub Height (meters)
B10: Turbines Meet the Cold-Weather Package Requirement | D10: (select from drop-down) | G10: Yes | H10: No
B11: That allow the turbines to reliably operate down to temperatures of -30 degrees Celsius (-22 degrees Fahrenheit).
A13: =A4+1 -> 2 | B13: Facility Level Information
B14: Number of Turbines
B15: Annual Plant Availability (%) - Wind
B16: Estimated Land Area (acres) - Wind
A18: =A13+1 -> 3 | B18: Notes to Technical Description | Wind

Sheet F9_TechDescBiomass
B1: Form F8 - Technical Description | Biomass
B2: ='X-GenIn'!C7 -> PSCo All-Source 2022 Ownership RFP
B3: 67.29 | C3: =130-SUM(B3,D3) -> 45.85 | D3: 16.86
A4: 1 | B4: Fuel Source (As Delivered)
B5: Maximum Hourly Fuel Usage Rate (Tons)
B6: Annual Fuel Usage Rate (Tons)
B7: Consistent With Production Profile Form.
B8: Expected Fuel Quality (Btu/lb)
B9: Expected Fuel Quality % Moisture (%)
B10: Expected Fuel Quality % Sulfur (%)
B11: Expected Fuel Quality % Ash (%)
B12: On-Site Fuel Storage Requirements (Days)
B13: Fuel Cost at Source ($/Ton)
B14: Fuel Delivery Cost ($/Ton)
B15: On-Site Fuel Processing Cost ($/Ton)
A17: =A4+1 -> 2 | B17: Outages
B18: Annual Expected Forced Outage Rate (%) - Biomass
B19: Expected Avg Annual Maintenance Requirements (days/year)
A21: =A17+1 -> 3 | B21: Manual Control (MC)
B22: Lowest Stable Operating Point on MC (% of full load)
B23: Highest Stable Operating Point on MC (% of full load)
B24: Normal Up Ramp Rate on MC (MW/min)
B25: Normal Down Ramp Rate on MC (MW/min)
B26: Emergency Up Ramp Rate on MC (MW/min)
B27: Emergency Down Ramp Rate on MC (MW/min)
A29: =A21+1 -> 4 | B29: Automatic Generation Control (AGC)
B30: Lowest Stable Operating Point on AGC (% of full load) - Biomass
B31: Highest Stable Operating Point on AGC (% of full load) - Biomass
B32: Maximum Up Ramp Rate on AGC (MW/min) - Biomass
B33: Maximum Down Ramp Rate on AGC (MW/min) - Biomass
B34: (LEAVE BLANK IF NO AGC CAPABILITY)
A36: =A29+1 -> 5 | B36: Start Times
B37: Off-line for 6 hours (minutes) - Biomass
B38: Off-line for 8 hours (minutes) - Biomass
B39: Off-line for 12 hours (minutes) - Biomass
B40: Off-line for 3 days (minutes) - Biomass
B41: Maximum Load Achievable in 10 Minutes (% of full load)
B42: Time to start unit, sync to grid, and reach minimum load.
A44: =A36+1 -> 6 | B44: Other
B45: Minimum Up Time (minutes) - Biomass
...

Sheet F10_TechDescOther
B1: Form F9 - Technical Description | Other Tech
B2: ='X-GenIn'!C7 -> PSCo All-Source 2022 Ownership RFP
B3: 61.43 | C3: 52.43 | D3: =130-SUM(B3:C3) -> 16.14
B4: For bids proposing projects utilizing a primary energy source other than solar, wind or biomass (e.g., geothermal, hydro, recycled energy), complete this form. Ensure that other relevant, quantitative information is included in the Project Description Bid Narrative Topic.
A5: 1 | B5: Consumptive Water Use (gallons/MWh) - Other
B6: At 100% annual average base capacity.
A8: =A5+1 -> 2 | B8: Notes to Technical Description | Other Tech

Sheet F11_ProdProfile
B1: Form F10 - Energy Production Profile - Annual and Monthly
B2: ='X-GenIn'!C7 -> PSCo All-Source 2022 Ownership RFP
B4: 1) Estimate (information below should be absent of any dispatch of storage) annual energy production for calendar years 2018 through 2022 utilizing whatever historical meteorological data are available for the site or a nearby site with similar meteorological characteristics. Explain fully in the Energy Production Profile Narrative Topic the meteorological data used for the annual estimates. 2) Enter the annual expected global horizontal irradiance if the project is a solar facility. 3) The input here is the maximum MWh generation that could occur in each of the twelve months during any hour of the month. 4) Provide the month's total expected average generation, not just the generation from a single day. Indicate the average expected hourly generation from the proposed project by month and time of day (the input values are the monthly totals by hour). To the extent, the sum of the values in the grid are different from the first year Expected Energy value on Form D1, explain fully the cause of the difference in the Energy Production Profile Narrative Topic. Estimated energy production should be gross of any expected plant degradation over time. Time is hour ending, Mountain Standard Time (i.e. do not adjust for daylight savings time).
A5: 1 | B5: Estimated Annual Energy Production (MWh)
B6: Year | C6: MWh
B7: =B8-1 -> 2018
B8: =B9-1 -> 2019
B9: =B10-1 -> 2020
B10: =B11-1 -> 2021
B11: 2022
A13: =+A5+1 -> 2 | B13: Annual Expected Global Horizontal Irradiance (kWh/m2/yr) for Solar Projects
B14: GHI (kWh/m2/yr)
A16: =+A13+1 -> 3 | B16: Monthly Maximum Expected Hourly Generation (MWh)
C17: Jan | D17: Feb | E17: Mar | F17: Apr | G17: May | H17: Jun | I17: Jul | J17: Aug | K17: Sep | L17: Oct | M17: Nov | N17: Dec
B18: Max (MWh)
A20: =+A16+1 -> 4 | B20: Average (P50) Expected Hourly Generation (MWh)
B21: HE (MST) | C21: Jan | D21: Feb | E21: Mar | F21: Apr | G21: May | H21: Jun | I21: Jul | J21: Aug | K21: Sep | L21: Oct | M21: Nov | N21: Dec
B22: 1
B23: 2
B24: 3
B25: 4
B26: 5
B27: 6
B28: 7
B29: 8
B30: 9
B31: 10
B32: 11
B33: 12
... B45: 24
B46: Sum | C46: =SUM(C22:C45) -> 0 | D46: =SUM(D22:D45) -> 0 | E46: =SUM(E22:E45) -> 0 | F46: =SUM(F22:F45) -> 0 | G46: =SUM(G22:G45) -> 0 | H46: =SUM(H22:H45) -> 0 | I46: =SUM(I22:I45) -> 0 | J46: =SUM(J22:J45) -> 0 | ... N46: =SUM(N22:N45) -> 0
B47: % of Total | C47: =IF(ISERROR(SUM(C22:C45)/SUM($C$22:$N$45)),"",SUM(C22:C45)/SUM($C$22:$N$45)) | D47: =IF(ISERROR(SUM(D22:D45)/SUM($C$22:$N$45)),"",SUM(D22:D45)/SUM($C$22:$N$45)) | E47: =IF(ISERROR(SUM(E22:E45)/SUM($C$22:$N$45)),"",SUM(E22:E45)/SUM($C$22:$N$45)) | F47: =IF(ISERROR(SUM(F22:F45)/SUM($C$22:$N$45)),"",SUM(F22:F45)/SUM($C$22:$N$45)) | G47: =IF(ISERROR(SUM(G22:G45)/SUM($C$22:$N$45)),"",SUM(G22:G45)/SUM($C$22:$N$45)) | H47: =IF(ISERROR(SUM(H22:H45)/SUM($C$22:$N$45)),"",SUM(H22:H45)/SUM($C$22:$N$45)) | I47: =IF(ISERROR(SUM(I22:I45)/SUM($C$22:$N$45)),"",SUM(I22:I45)/SUM($C$22:$N$45)) | J47: =IF(ISERROR(SUM(J22:J45)/SUM($C$22:$N$45)),"",SUM(J22:J45)/SUM($C$22:$N$45)) | ... N47: =IF(ISERROR(SUM(N22:N45)/SUM($C$22:$N$45)),"",SUM(N22:N45)/SUM($C$22:$N$45))
B48: Total | C48: =SUM(C46:N46) -> 0
A50: =A20+1 -> 5 | B50: Notes to Production Profile

Sheet F12_TechDescSolarTh
B1: Form F11 - Technical Description | Solar Thermal
B2: ='X-GenIn'!C7 -> PSCo All-Source 2022 Ownership RFP
B3: 60.43 | C3: =130-SUM(B3,D3) -> 49.71 | D3: 19.86
A4: 1 | B4: Reflector Information
B5: Manufacturer of Reflector
B6: Model # of Reflector
B7: Reflector Material
B8: Total Field Aperture Area (m2)
A10: =+A4+1 -> 2 | B10: Receiver Information
B11: Manufacturer of Receiver
B12: Model # of Receiver
B13: Heat Transfer Fluid
B14: Field Thermal Output (MW th) | D14: *
B15: Solar Multiple | D15: *
A17: =+A10+1 -> 3 | B17: Freeze Protection Information
B18: Estimated Annual Gas Burn (MMBtu/yr)
B19: Estimated Peak Winter Electrical Load (MW)
A21: =A17+1 -> 4 | B21: Power Block Information
B22: Manufacturer of Power Block
B23: Model # of Power Block
B24: Working Fluid
B25: Nameplate Capacity (MWe) | D25: * | G25: Cooling Type
B26: Cooling (wet, dry, hybrid) | D26: (select from drop-down) | G26: wet | H26: dry | I26: hybrid
B27: If wet cooled…from dry cooling:
B28: Est. reduction in annual delivered energy production (MWh/yr)
B29: Est. reduction in summer peak generation capability (MW)
I30: .
A31: =A21+1 -> 5 | B31: Facility Level Information
B32: Estimated Annual Solar Collection Efficiency (%) | D32: *
B33: Consumptive Water Use (gallon/MWh) - Solar Thermal
B34: Annual Plant Availability (%) - Solar Thermal
B35: Estimated Annual Maintenance (hours)
B36: Estimated Land Area (acres) - Solar Thermal
A38: =A31+1 -> 6 | B38: Notes to Technical Description | Solar Thermal
B41: *Standard Test Conditions: 25 °C, 1 kW/m2, AM 1.5.

Sheet G_NatGas
B1: Form G - Natural Gas and Backup Fuel Supply
B2: ='X-GenIn'!C7 -> PSCo All-Source 2022 Ownership RFP | D2: =(130-B2)/2 -> #VALUE!
B3: 75.29 | C3: =(130-B3)/2 -> 27.355 | D3: =(130-B3)/2 -> 27.355
A4: 1 | B4: Natural Gas Supply
B5: Identify whether the proposal is for a tolling arrangement or an electric energy sale arrangement. For tolling bids, identify the pipeline to which the bidder plans to interconnect. For energy sale (non-tolling) bids in which bidder plans to acquire and manage the fuel supply, describe supply plan and identify all contracts that support the supply of firm gas transportation and firm supply to the proposed plant.
A8: =A4+1 -> 2 | B8: Natural Gas Interconnection
B9: Describe the gas interconnection facilities that have been included in the Form D1 bid price, including the size, length and location of the lateral interconnection and fuel delivery point. State the capital cost estimates included in the Form D1 pricing and the change in that pricing for a $100,000 change in the capital cost estimate. Attach a USGS-based map showing the gas pipeline delivery point, the location of any lateral lines, compressors and meters.
B11: Gas Interconnection Capital Costs Included in Form D1 Pricing ($)
B12: Gas Interconnection Cost Price Adjustment ($/kW-mo) | D12: *
B13: *For PPAs only - Change in levelized Capacity Payment Rate ($/kW-mo) per $100,000 change in Capital Costs estimate.
A15: =A8+1 -> 3 | B15: Natural Gas Pressure
B16: Minimum Pressure Required at Gas Interconnection Point (psig)
B17: Maximum Pressure Required at Gas Interconnection Point (psig)
B18: Minimum Pressure Required at Plant Burner Tip (psig)
B19: Gas Delivery Pressure (psig)
B20: Guaranteed by the Interconnecting Pipeline at the Fuel Delivery Point
A22: =A15+1 -> 4 | B22: Natural Gas Quantities | C22: Summer | D22: Winter
B23: Maximum Daily Consumption for Electrical Generation (MMBtu/day)
B24: Maximum Hourly Consumption for Electrical Generation (MMBtu/hour)
B25: Maximum Daily Consumption for Ancillaries (MMBtu/day)
B26: Maximum Hourly Consumption for Ancillaries (MMBtu/hour)
B28: Describe any ancillary equipment which may utilize fuel when the facility is off-line and describe who is responsible for the ancillary gas usage costs.
A31: =A22+1 -> 5 | B31: Natural Gas Quality
B32: Select if any of the following pipelines have unacceptable gas quality | G32: Colorado Interstate Gas | H32: Wyoming Interstate Gas | I32: Public Service Company of Colorado
B33: If any, indicate in notes (#7), why. | D33: (select from drop-down)
A35: =A31+1 -> 6 | B35: Secondary Fuel Supply
B36: If secondary, on-site fuel storage is proposed, describe the fuel type, including quality specifications, quantity, and maximum number of full-load run hours on secondary fuel.
B38: Secondary Fuel On-Site Storage Volume (gallons)
B39: Estimated Net Capability Run Hours On Secondary Fuel (hours)
A41: =+A35+1 -> 7 | B41: Maximum Hydrogen Capability Option (%)
B42: See section 2.8 or 2.5 of the Dispatchable or Ownership RFPs, respectively.
A43: =+A41+1 -> 8 | B43: Notes to Natural Gas/Fuel Supply

Sheet H_Emissions
B1: Form H - Emission Rates
B2: ='X-GenIn'!C7 -> PSCo All-Source 2022 Ownership RFP
B3: =130-SUM(C3:E3) -> 77 | C3: 25 | D3: 3 | E3: 25
B4: Provide emission rate information for the proposed generator(s), including fuel requirements for base and supplemental capacity and/or freeze protection.
A5: 1 | B5: Emission Rates on Primary Fuel
C6: Emission Rates at Full Load on Base Capacity (lbs/MMBtu) | E6: Emission Rates at Full Load on Base & Supplemental Capacity (lbs/MMBtu)
B7: Oxides of Sulfur
B8: Oxides of Nitrogen
B9: Carbon Dioxide
B10: Carbon Monoxide
B11: Volatile Organic Compounds
B12: Particulate Matter - PM10
B13: Particulate Matter - PM2.5
B14: Lead
B15: Mercury
B17: Maximum NOx emission rate (in parts per million)
B18: Maximum CO emission rate (in parts per million)
B19: Maximum Permitted/Permittable Annual Capacity Factor (%)
B20: % of Net Capability.
A22: =A5+1 -> 2 | B22: Emission Rates on Secondary Fuel
B23: If applicable. | C23: Emission Rates at Full Load on Base Capacity (lbs/MMBtu) II | E23: Emission Rates at Full Load on Base & Supplemental Capacity (lbs/MMBtu) II
B24: Oxides of Sulfur II
B25: Oxides of Nitrogen II
B26: Carbon Dioxide II
B27: Carbon Monoxide II
B28: Volatile Organic Compounds II
B29: Particulate Matter - PM10 II
B30: Particulate Matter - PM2.5 II
B31: Lead II
B32: Mercury II
B34: Maximum NOx emission rate (in parts per million) II
B35: Maximum CO emission rate (in parts per million) II
B36: Maximum Permitted/Permittable Annual Capacity Factor (%) II
B37: % of Net Capability
A39: =A22+1 -> 3 | B39: Notes to Emissions
